BEGIN:VCALENDAR
VERSION:2.0
PRODID:-//Proloco - Riviera dei Pini - ECPv6.15.20//NONSGML v1.0//EN
CALSCALE:GREGORIAN
METHOD:PUBLISH
X-WR-CALNAME:Proloco - Riviera dei Pini
X-ORIGINAL-URL:https://new.rivieradeipini.it
X-WR-CALDESC:Eventi per Proloco - Riviera dei Pini
REFRESH-INTERVAL;VALUE=DURATION:PT1H
X-Robots-Tag:noindex
X-PUBLISHED-TTL:PT1H
BEGIN:VTIMEZONE
TZID:Europe/Rome
BEGIN:DAYLIGHT
TZOFFSETFROM:+0100
TZOFFSETTO:+0200
TZNAME:CEST
DTSTART:20230326T010000
END:DAYLIGHT
BEGIN:STANDARD
TZOFFSETFROM:+0200
TZOFFSETTO:+0100
TZNAME:CET
DTSTART:20231029T010000
END:STANDARD
BEGIN:DAYLIGHT
TZOFFSETFROM:+0100
TZOFFSETTO:+0200
TZNAME:CEST
DTSTART:20240331T010000
END:DAYLIGHT
BEGIN:STANDARD
TZOFFSETFROM:+0200
TZOFFSETTO:+0100
TZNAME:CET
DTSTART:20241027T010000
END:STANDARD
BEGIN:DAYLIGHT
TZOFFSETFROM:+0100
TZOFFSETTO:+0200
TZNAME:CEST
DTSTART:20250330T010000
END:DAYLIGHT
BEGIN:STANDARD
TZOFFSETFROM:+0200
TZOFFSETTO:+0100
TZNAME:CET
DTSTART:20251026T010000
END:STANDARD
BEGIN:DAYLIGHT
TZOFFSETFROM:+0100
TZOFFSETTO:+0200
TZNAME:CEST
DTSTART:20260329T010000
END:DAYLIGHT
BEGIN:STANDARD
TZOFFSETFROM:+0200
TZOFFSETTO:+0100
TZNAME:CET
DTSTART:20261025T010000
END:STANDARD
END:VTIMEZONE
BEGIN:VEVENT
DTSTART;TZID=Europe/Rome:20250627T190000
DTEND;TZID=Europe/Rome:20250627T235900
DTSTAMP:20260425T010241
CREATED:20250619T160553Z
LAST-MODIFIED:20250619T160553Z
UID:7218-1751050800-1751068740@new.rivieradeipini.it
SUMMARY:Incozzati Estate - Giugno 2025
DESCRIPTION:Incozzati Estate 2025 Riviera dei Pini a Tagliata di Cervia \n“Incozzati” è una manifestazione enogastronomica.\nI visitatori potranno gustare menù a base di pesce a Km zero che avranno come ingrediente principale famosa “Cozza di Cervia”.\nI piatti sono preparati dalla cucina dei volontari all’interno della “Casina della Pro-Loco”\, potrete trovare specialità come risotto di pesce\, fritto misto\, seppie con i piselli e cozze alla marinara. \nL’evento si svolge all’interno del Parco dei Gemelli\, attrezzato con alcuni giochi per bambini\, a pochi passi dal mare. \nLa serata prevede un concerto di musica live con i “Barboni di lusso” (ore 21:00) \nRimani aggiornato sulla nostra pagina Facebook #Riviera dei Pini \n 
URL:https://new.rivieradeipini.it/event/incozzati-estate-giugno-2025/
LOCATION:La Casina\, Parco dei Gemelli\, Cervia\, 48015
CATEGORIES:Giugno
ATTACH;FMTTYPE=image/jpeg:https://new.rivieradeipini.it/wp-content/uploads/2022/05/cozze-2.jpg
END:VEVENT
BEGIN:VEVENT
DTSTART;TZID=Europe/Rome:20240809T190000
DTEND;TZID=Europe/Rome:20240809T235900
DTSTAMP:20260425T010241
CREATED:20240118T150703Z
LAST-MODIFIED:20240403T085654Z
UID:6340-1723230000-1723247940@new.rivieradeipini.it
SUMMARY:Incozzati Estate - Agosto 2024
DESCRIPTION:Incozzati Estate 2024 Riviera dei Pini a Tagliata di Cervia \n“Incozzati” è una manifestazione enogastronomica.\nI visitatori potranno gustare menù a base di pesce a Km zero che avranno come ingrediente principale famosa “Cozza di Cervia”.\nI piatti sono preparati dalla cucina dei volontari all’interno della “Casina della Pro-Loco”\, potrete trovare specialità come risotto di pesce\, fritto misto\, seppie con i piselli e cozze alla marinara. \nL’evento si svolge all’interno del Parco dei Gemelli\, attrezzato con alcuni giochi per bambini\, a pochi passi dal mare. \nLa serata prevede uno spettacolo di Cabaret (21:00) \nRimani aggiornato sulla nostra pagina Facebook #Riviera dei Pini \n 
URL:https://new.rivieradeipini.it/event/incozzati-estate-agosto/
LOCATION:La Casina\, Parco dei Gemelli\, Cervia\, 48015
CATEGORIES:Agosto
ATTACH;FMTTYPE=image/jpeg:https://new.rivieradeipini.it/wp-content/uploads/2022/05/cozze-2.jpg
END:VEVENT
BEGIN:VEVENT
DTSTART;TZID=Europe/Rome:20240706T190000
DTEND;TZID=Europe/Rome:20240706T235900
DTSTAMP:20260425T010241
CREATED:20240118T153238Z
LAST-MODIFIED:20240403T085812Z
UID:6357-1720292400-1720310340@new.rivieradeipini.it
SUMMARY:Incozzati Estate - Luglio 2024
DESCRIPTION:Incozzati Estate 2024 Riviera dei Pini a Tagliata di Cervia \n“Incozzati” è una manifestazione enogastronomica.\nI visitatori potranno gustare menù a base di pesce a Km zero che avranno come ingrediente principale famosa “Cozza di Cervia”.\nI piatti sono preparati dalla cucina dei volontari all’interno della “Casina della Pro-Loco”\, potrete trovare specialità come risotto di pesce\, fritto misto\, seppie con i piselli e cozze alla marinara. \nL’evento si svolge all’interno del Parco dei Gemelli\, attrezzato con alcuni giochi per bambini\, a pochi passi dal mare. \nLa serata prevede un concerto di musica live con le “Rimmel” (ore 21:00) \nRimani aggiornato sulla nostra pagina Facebook #Riviera dei Pini \n 
URL:https://new.rivieradeipini.it/event/incozzati-estate-luglio/
LOCATION:La Casina\, Parco dei Gemelli\, Cervia\, 48015
CATEGORIES:Luglio
ATTACH;FMTTYPE=image/jpeg:https://new.rivieradeipini.it/wp-content/uploads/2022/05/cozze-2.jpg
END:VEVENT
BEGIN:VEVENT
DTSTART;TZID=Europe/Rome:20240614T190000
DTEND;TZID=Europe/Rome:20240614T235900
DTSTAMP:20260425T010241
CREATED:20240112T170607Z
LAST-MODIFIED:20240403T085624Z
UID:6151-1718391600-1718409540@new.rivieradeipini.it
SUMMARY:Incozzati Estate - Giugno 2024
DESCRIPTION:Incozzati Estate 2024 Riviera dei Pini a Tagliata di Cervia \n“Incozzati” è una manifestazione enogastronomica.\nI visitatori potranno gustare menù a base di pesce a Km zero che avranno come ingrediente principale famosa “Cozza di Cervia”.\nI piatti sono preparati dalla cucina dei volontari all’interno della “Casina della Pro-Loco”\, potrete trovare specialità come risotto di pesce\, fritto misto\, seppie con i piselli e cozze alla marinara. \nL’evento si svolge all’interno del Parco dei Gemelli\, attrezzato con alcuni giochi per bambini\, a pochi passi dal mare. \nLa serata prevede un concerto di musica live con i “Margo 80” (ore 21:00) \nRimani aggiornato sulla nostra pagina Facebook #Riviera dei Pini \n 
URL:https://new.rivieradeipini.it/event/incozzati-estate-giugno/
LOCATION:La Casina\, Parco dei Gemelli\, Cervia\, 48015
CATEGORIES:Giugno
ATTACH;FMTTYPE=image/jpeg:https://new.rivieradeipini.it/wp-content/uploads/2022/05/cozze-2.jpg
END:VEVENT
END:VCALENDAR