BEGIN:VCALENDAR
VERSION:2.0
PRODID:-//Proloco - Riviera dei Pini - ECPv6.15.20//NONSGML v1.0//EN
CALSCALE:GREGORIAN
METHOD:PUBLISH
X-ORIGINAL-URL:https://new.rivieradeipini.it
X-WR-CALDESC:Eventi per Proloco - Riviera dei Pini
REFRESH-INTERVAL;VALUE=DURATION:PT1H
X-Robots-Tag:noindex
X-PUBLISHED-TTL:PT1H
BEGIN:VTIMEZONE
TZID:Europe/Rome
BEGIN:DAYLIGHT
TZOFFSETFROM:+0100
TZOFFSETTO:+0200
TZNAME:CEST
DTSTART:20230326T010000
END:DAYLIGHT
BEGIN:STANDARD
TZOFFSETFROM:+0200
TZOFFSETTO:+0100
TZNAME:CET
DTSTART:20231029T010000
END:STANDARD
BEGIN:DAYLIGHT
TZOFFSETFROM:+0100
TZOFFSETTO:+0200
TZNAME:CEST
DTSTART:20240331T010000
END:DAYLIGHT
BEGIN:STANDARD
TZOFFSETFROM:+0200
TZOFFSETTO:+0100
TZNAME:CET
DTSTART:20241027T010000
END:STANDARD
BEGIN:DAYLIGHT
TZOFFSETFROM:+0100
TZOFFSETTO:+0200
TZNAME:CEST
DTSTART:20250330T010000
END:DAYLIGHT
BEGIN:STANDARD
TZOFFSETFROM:+0200
TZOFFSETTO:+0100
TZNAME:CET
DTSTART:20251026T010000
END:STANDARD
END:VTIMEZONE
BEGIN:VEVENT
DTSTART;TZID=Europe/Rome:20240703T210000
DTEND;TZID=Europe/Rome:20240703T230000
DTSTAMP:20260426T041031
CREATED:20200316T083157Z
LAST-MODIFIED:20240326T092126Z
UID:4042-1720040400-1720047600@new.rivieradeipini.it
SUMMARY:Letture per Bambini con "Fabio Canini"
DESCRIPTION:LETTURE PER BAMBINI con Fabio Canini \nIl docente\, Fabio Canini\, è conduttore\, trainer e performer di Playback Theatre\, e lavora da anni in progetti per la promozione del benessere di comunità e per la crescita personale; ha fondato “ForlimPlayback. La compagnia dei Pellegrini di Forlimpopoli” ed è membro dell’Associazione “Nodi. Playback Factory”. \nEsperienza ormai trentennale nella conduzione di gruppi prediligendo l’uso di metodi d’azione e con una specializzazione nell’utilizzo di strumenti quali lo Psicodramma\, il Sociodramma\, la Sociometria\, il Playback Theatre in contesti di formazione e sviluppo personale e di comunità. Ha sviluppato passione e competenza per le metodologie espressive e teatrali nelle dimensioni relazionali ed emotive legate ai ruoli personali e professionali. \nÈ tra i promotori di “NODI Playback Factory”\, Network del Playback Theatre per le Organizzazioni\, ed ha fondato e diretto per 9 anni la compagnia di Playback Theatre “ForlimPLAYBACK. La compagnia dei Pellegrini” di Forlimpopli (FC).\nPer 17 anni ha coordinato un servizio sovracomunale rivolto alla genitorialità. \n 
URL:https://new.rivieradeipini.it/event/letture-e-laboratori-per-bambini/
LOCATION:Mercatino dei Bimbi\, Piazzale dell'Acquario\, Tagliata di Cervia\, RA\, 48015\, Italia
CATEGORIES:Luglio
ATTACH;FMTTYPE=image/jpeg:https://new.rivieradeipini.it/wp-content/uploads/2020/03/eventi-a-bergamo-e-provincia-564505.660x368.jpg
END:VEVENT
END:VCALENDAR