BEGIN:VCALENDAR
VERSION:2.0
PRODID:-//Proloco - Riviera dei Pini - ECPv6.15.20//NONSGML v1.0//EN
CALSCALE:GREGORIAN
METHOD:PUBLISH
X-ORIGINAL-URL:https://new.rivieradeipini.it
X-WR-CALDESC:Eventi per Proloco - Riviera dei Pini
REFRESH-INTERVAL;VALUE=DURATION:PT1H
X-Robots-Tag:noindex
X-PUBLISHED-TTL:PT1H
BEGIN:VTIMEZONE
TZID:Europe/Rome
BEGIN:DAYLIGHT
TZOFFSETFROM:+0100
TZOFFSETTO:+0200
TZNAME:CEST
DTSTART:20240331T010000
END:DAYLIGHT
BEGIN:STANDARD
TZOFFSETFROM:+0200
TZOFFSETTO:+0100
TZNAME:CET
DTSTART:20241027T010000
END:STANDARD
BEGIN:DAYLIGHT
TZOFFSETFROM:+0100
TZOFFSETTO:+0200
TZNAME:CEST
DTSTART:20250330T010000
END:DAYLIGHT
BEGIN:STANDARD
TZOFFSETFROM:+0200
TZOFFSETTO:+0100
TZNAME:CET
DTSTART:20251026T010000
END:STANDARD
BEGIN:DAYLIGHT
TZOFFSETFROM:+0100
TZOFFSETTO:+0200
TZNAME:CEST
DTSTART:20260329T010000
END:DAYLIGHT
BEGIN:STANDARD
TZOFFSETFROM:+0200
TZOFFSETTO:+0100
TZNAME:CET
DTSTART:20261025T010000
END:STANDARD
END:VTIMEZONE
BEGIN:VEVENT
DTSTART;TZID=Europe/Rome:20250531T190000
DTEND;TZID=Europe/Rome:20250531T230000
DTSTAMP:20260425T145649
CREATED:20220518T142615Z
LAST-MODIFIED:20250402T123733Z
UID:6352-1748718000-1748732400@new.rivieradeipini.it
SUMMARY:BIRRA & SALSICCIA ESTATE 2025
DESCRIPTION:Birra & salsiccia si mangia e ci si diverte!!!! \nSabato 31 maggio dalle 19.00 un nuovo appuntamento della Riviera dei Pini\, con la serata dedicata a birra e salsiccia. Nel parco dei Gemelli a Tagliata di Cervia ritrovo per gustare le prelibatezze romagnole. \nSalsiccia\, squacquerone e le speciali alici marinate con misticanza\, il tutto accompagnato dalla piadina e birra fresca. \nAlle 21.00 la festa continua con la musica dei  “MARGO’ 80” \nIl parco farà da cornice alla serata e i volontari della Riviera dei Pini  faranno assaporare il calore della Romagna. \nPer soddisfare tutte le richieste\, abbiamo pensato di accogliere le prenotazioni dei tavoli per poter gustare tranquillamente il menù di Birra&Salsiccia. \nPRENOTA IL TUO TAVOLO PER BIRRA & SALSICCIA
URL:https://new.rivieradeipini.it/event/birra-salsiccia-inizio-estate/
LOCATION:La Casina\, Parco dei Gemelli\, Cervia\, 48015
CATEGORIES:casina,Giugno,Primavera
ATTACH;FMTTYPE=image/jpeg:https://new.rivieradeipini.it/wp-content/uploads/2021/08/birra-e-salsiccia.jpg
END:VEVENT
END:VCALENDAR