BEGIN:VCALENDAR
VERSION:2.0
PRODID:-//Proloco - Riviera dei Pini - ECPv6.15.20//NONSGML v1.0//EN
CALSCALE:GREGORIAN
METHOD:PUBLISH
X-WR-CALNAME:Proloco - Riviera dei Pini
X-ORIGINAL-URL:https://new.rivieradeipini.it
X-WR-CALDESC:Eventi per Proloco - Riviera dei Pini
REFRESH-INTERVAL;VALUE=DURATION:PT1H
X-Robots-Tag:noindex
X-PUBLISHED-TTL:PT1H
BEGIN:VTIMEZONE
TZID:Europe/Rome
BEGIN:DAYLIGHT
TZOFFSETFROM:+0100
TZOFFSETTO:+0200
TZNAME:CEST
DTSTART:20230326T010000
END:DAYLIGHT
BEGIN:STANDARD
TZOFFSETFROM:+0200
TZOFFSETTO:+0100
TZNAME:CET
DTSTART:20231029T010000
END:STANDARD
BEGIN:DAYLIGHT
TZOFFSETFROM:+0100
TZOFFSETTO:+0200
TZNAME:CEST
DTSTART:20240331T010000
END:DAYLIGHT
BEGIN:STANDARD
TZOFFSETFROM:+0200
TZOFFSETTO:+0100
TZNAME:CET
DTSTART:20241027T010000
END:STANDARD
BEGIN:DAYLIGHT
TZOFFSETFROM:+0100
TZOFFSETTO:+0200
TZNAME:CEST
DTSTART:20250330T010000
END:DAYLIGHT
BEGIN:STANDARD
TZOFFSETFROM:+0200
TZOFFSETTO:+0100
TZNAME:CET
DTSTART:20251026T010000
END:STANDARD
END:VTIMEZONE
BEGIN:VEVENT
DTSTART;VALUE=DATE:20240913
DTEND;VALUE=DATE:20240916
DTSTAMP:20260426T034734
CREATED:20220518T154755Z
LAST-MODIFIED:20240326T100408Z
UID:6395-1726185600-1726444799@new.rivieradeipini.it
SUMMARY:Sprint Kite 2024
DESCRIPTION:Aquiloni acrobatici in spiaggia \n  \nQuesto evento nasce nel 1990 a Cervia\, città che da sempre ci ha ospitati e patrocinati e con cui da tempo condividiamo scopi e spirito di accoglienza\, che si riflette anche quest’anno nella programmazione ricca di ospiti e contenuti.\nGli ospiti di questa edizione specialisti in varie discipline nel mondo degli aquiloni acrobatici sia a due che a 4 cavi o nel volo di lunghi treni complessi di aquiloni manovrati in sincronia con la musica per evoluzioni mozzafiato.\nOltre 30 associazioni hanno aderito con spirito di amicizia al nostro invito\, volenterosi di esprimersi con le loro creazioni sulle nostre accoglienti spiagge.\nCome lo scorso anno\, per l’organizzazione ci siamo avvalsi della collaborazione di diverse associazioni\, oltre a volontari e amici che ci hanno aiutato a rendere il più possibile sicuro lo svolgersi del festival. Tra questi gli operatori di Tagliata che hanno aderito all’evento e la Pro Loco Riviera dei Pini\, che ci ha come sempre supportati con grande professionalità e cortesia e il Comune di Cervia per l’aiuto e il patrocinio.
URL:https://new.rivieradeipini.it/event/sprint-kite/
CATEGORIES:Settembre,spiaggia
ATTACH;FMTTYPE=image/jpeg:https://new.rivieradeipini.it/wp-content/uploads/2022/05/cervia-volante-sprint-kite.jpg
END:VEVENT
END:VCALENDAR