BEGIN:VCALENDAR
VERSION:2.0
PRODID:-//Proloco - Riviera dei Pini - ECPv6.15.20//NONSGML v1.0//EN
CALSCALE:GREGORIAN
METHOD:PUBLISH
X-ORIGINAL-URL:https://new.rivieradeipini.it
X-WR-CALDESC:Eventi per Proloco - Riviera dei Pini
REFRESH-INTERVAL;VALUE=DURATION:PT1H
X-Robots-Tag:noindex
X-PUBLISHED-TTL:PT1H
BEGIN:VTIMEZONE
TZID:Europe/Rome
BEGIN:DAYLIGHT
TZOFFSETFROM:+0100
TZOFFSETTO:+0200
TZNAME:CEST
DTSTART:20230326T010000
END:DAYLIGHT
BEGIN:STANDARD
TZOFFSETFROM:+0200
TZOFFSETTO:+0100
TZNAME:CET
DTSTART:20231029T010000
END:STANDARD
BEGIN:DAYLIGHT
TZOFFSETFROM:+0100
TZOFFSETTO:+0200
TZNAME:CEST
DTSTART:20240331T010000
END:DAYLIGHT
BEGIN:STANDARD
TZOFFSETFROM:+0200
TZOFFSETTO:+0100
TZNAME:CET
DTSTART:20241027T010000
END:STANDARD
BEGIN:DAYLIGHT
TZOFFSETFROM:+0100
TZOFFSETTO:+0200
TZNAME:CEST
DTSTART:20250330T010000
END:DAYLIGHT
BEGIN:STANDARD
TZOFFSETFROM:+0200
TZOFFSETTO:+0100
TZNAME:CET
DTSTART:20251026T010000
END:STANDARD
END:VTIMEZONE
BEGIN:VEVENT
DTSTART;TZID=Europe/Rome:20240823T210000
DTEND;TZID=Europe/Rome:20240823T230000
DTSTAMP:20260426T035743
CREATED:20220518T135321Z
LAST-MODIFIED:20240320T120958Z
UID:6318-1724446800-1724454000@new.rivieradeipini.it
SUMMARY:Riviera dei Pini - Serata cabaret con "Alessandro Politi"
DESCRIPTION:Serata all’insegna della comicità con Alessandro Politi \n  \n \nLaureato in ingegneria informatica.\nE’ tra gli attori del film Un amore perfetto (2001)\, commedia romantica diretta da Valerio Andrei. Nello stesso anno collabora con Alessandro Greco e Federica Panicucci alla produzione del programma televisivo Una canzone per te e ancora con Greco e con Laura Freddi nella produzione di Portami al mare e fammi sognare \nNel 2003 entra a far parte del Laboratorio Artistico di Zelig\, apparendo in Zelig Off nella stagione 2004/2005 e l’anno dopo a Zelig Circus\, dove presenta il personaggio del mago Martin Scozzese\, strampalato illusionista che si definisce Grande Mago per le sue capacità.\nDi poche parole\, con un maldestro accento anglosassone e accolto dalle note di “Scotland the Brave”\, accompagna le sue magie sotto gli occhi divertiti di Claudio Bisio e Vanessa Incontrada\, allontanando questi ultimi dalla scena “for courtesy”. Il suo personaggio è uno dei più amati tra le new entry del programma\, tanto da essere elogiato dal famoso critico tv Aldo Grasso del Corriere della Sera. In seguito si scoprirà che si tratta in realtà del plagio del personaggio interpretato dall’artista circense Steve Eleky (all’anagrafe Istvan Varsi) \nNel 2010 partecipa al programma di Rai Uno “Voglia d’aria fresca” sempre col personaggio del mago\nNel 2015 è tra gli ospiti fissi di Quelli Che Il Calcio\, su Rai2 \n  \n  \n 
URL:https://new.rivieradeipini.it/event/riviera-dei-pini-cabaret-francesco-damiano-e-leo-mas/
CATEGORIES:Agosto
ATTACH;FMTTYPE=image/jpeg:https://new.rivieradeipini.it/wp-content/uploads/2022/05/serata-cabaret.jpg
END:VEVENT
END:VCALENDAR