BEGIN:VCALENDAR
VERSION:2.0
PRODID:-//Proloco - Riviera dei Pini - ECPv6.15.20//NONSGML v1.0//EN
CALSCALE:GREGORIAN
METHOD:PUBLISH
X-ORIGINAL-URL:https://new.rivieradeipini.it
X-WR-CALDESC:Eventi per Proloco - Riviera dei Pini
REFRESH-INTERVAL;VALUE=DURATION:PT1H
X-Robots-Tag:noindex
X-PUBLISHED-TTL:PT1H
BEGIN:VTIMEZONE
TZID:Europe/Rome
BEGIN:DAYLIGHT
TZOFFSETFROM:+0100
TZOFFSETTO:+0200
TZNAME:CEST
DTSTART:20230326T010000
END:DAYLIGHT
BEGIN:STANDARD
TZOFFSETFROM:+0200
TZOFFSETTO:+0100
TZNAME:CET
DTSTART:20231029T010000
END:STANDARD
BEGIN:DAYLIGHT
TZOFFSETFROM:+0100
TZOFFSETTO:+0200
TZNAME:CEST
DTSTART:20240331T010000
END:DAYLIGHT
BEGIN:STANDARD
TZOFFSETFROM:+0200
TZOFFSETTO:+0100
TZNAME:CET
DTSTART:20241027T010000
END:STANDARD
BEGIN:DAYLIGHT
TZOFFSETFROM:+0100
TZOFFSETTO:+0200
TZNAME:CEST
DTSTART:20250330T010000
END:DAYLIGHT
BEGIN:STANDARD
TZOFFSETFROM:+0200
TZOFFSETTO:+0100
TZNAME:CET
DTSTART:20251026T010000
END:STANDARD
BEGIN:DAYLIGHT
TZOFFSETFROM:+0100
TZOFFSETTO:+0200
TZNAME:CEST
DTSTART:20260329T010000
END:DAYLIGHT
BEGIN:STANDARD
TZOFFSETFROM:+0200
TZOFFSETTO:+0100
TZNAME:CET
DTSTART:20261025T010000
END:STANDARD
END:VTIMEZONE
BEGIN:VEVENT
DTSTART;TZID=Europe/Rome:20240827T064500
DTEND;TZID=Europe/Rome:20240827T074500
DTSTAMP:20260426T053124
CREATED:20240326T104035Z
LAST-MODIFIED:20240326T104035Z
UID:7032-1724741100-1724744700@new.rivieradeipini.it
SUMMARY:Lezioni di Nordic Walking
DESCRIPTION:Lezioni gratuite di Nordic Walking \nTutti i martedì dal 25 Giugno al 3 Settembre\ndalle 06.45 alle 07.45 \nRitrovo Info Point Riviera dei Pini\nViale Italia 374
URL:https://new.rivieradeipini.it/event/lezioni-di-nordic-walking-agosto-4/
LOCATION:Info Point Riviera dei Pini\, Viale Italia 374\, Cervia\, Ravenna\, 48015\, Italia
CATEGORIES:Agosto,vacanza attiva
ATTACH;FMTTYPE=image/jpeg:https://new.rivieradeipini.it/wp-content/uploads/2019/01/sport-nordic-walking.jpg
END:VEVENT
BEGIN:VEVENT
DTSTART;TZID=Europe/Rome:20240827T170000
DTEND;TZID=Europe/Rome:20240827T233000
DTSTAMP:20260426T053124
CREATED:20200315T080245Z
LAST-MODIFIED:20240214T144123Z
UID:3987-1724778000-1724801400@new.rivieradeipini.it
SUMMARY:Mercatino "La via delle cose dimenticate"
DESCRIPTION:Mercatino La via delle cose dimenticate 2024 \nTutti i martedì dalle 17:00 alle 23:30 \nDal 4 giugno al 10 settembre. \n“La via delle cose dimenticate” viale Sicilia e viale Italia a Tagliata di CerviaVi aspettano artigiani e produttori di oggetti creativi con i loro prodotti unici!!! \n  \nIl mercatino “La Via delle Cose dimenticate” dal 2009 ogni martedi\, da giugno a settembre\, lungo il viale Sicilia e viale Italia. Il mercatino ha rappresentato un momento importante per i turisti\, i quali hanno potuto conoscere ed apprezzare più da vicino i prodotti enogastronomici tipici del nostro territorio e dell’artigianato locale contribuendo ad aiutare anche il commercio ed i pubblici esercizi. \nTroverete operatori del proprio ingegno\, hobbisti troverete prodotti realizzati all’uncinetto\, con feltro\, bigiotteria\, prodotti con materiale di riciclo\, artigiani viticoltori\, apicoltori ecc. \nNon avete un mezzo proprio per raggiungerci?!?\nNo problem… il trenino Tagliata Pinarella si ferma proprio a pochi passi!
URL:https://new.rivieradeipini.it/event/mercatino-la-via-delle-cose-dimenticate-2-2-2-2-2-2-2-2-2-2-2-2-2/
LOCATION:La via delle cose dimenticate\, Via Sicilia\, Tagliata di Cervia\, RA\, 48015\, Italia
CATEGORIES:Agosto,Cosa Fare
ATTACH;FMTTYPE=image/jpeg:https://new.rivieradeipini.it/wp-content/uploads/2019/01/via-delle-cose-dmenticate.jpg
END:VEVENT
BEGIN:VEVENT
DTSTART;TZID=Europe/Rome:20240828T210000
DTEND;TZID=Europe/Rome:20240828T210000
DTSTAMP:20260426T053124
CREATED:20240326T094229Z
LAST-MODIFIED:20240326T094240Z
UID:6968-1724878800-1724878800@new.rivieradeipini.it
SUMMARY:Smielatura - Apicoltura Brusi Cervia
DESCRIPTION:SMIELATURA CON BRUSI\nPresentazione e degustazione\nParco dei Gemelli
URL:https://new.rivieradeipini.it/event/smielatura-apicoltura-brusi-cervia/
CATEGORIES:Agosto,arte e cultura,natura e ambiente
ATTACH;FMTTYPE=image/jpeg:https://new.rivieradeipini.it/wp-content/uploads/2024/03/smielatura-con-brusi.jpg
END:VEVENT
BEGIN:VEVENT
DTSTART;TZID=Europe/Rome:20240829T083000
DTEND;TZID=Europe/Rome:20240829T093000
DTSTAMP:20260426T053124
CREATED:20220516T152149Z
LAST-MODIFIED:20240215T105639Z
UID:6296-1724920200-1724923800@new.rivieradeipini.it
SUMMARY:Yoga in Pineta con Antonella - Riviera dei Pini
DESCRIPTION:Yoga in Pineta con Antonella \nLezioni di Yoga gratuite in pineta della Riviera dei Pini\nPeriodo di svolgimento:  ogni giovedì dal 20 giugno al 5 settembre.\nRitrovo: Info Point Riviera dei Pini\nOrario: 8.30\nAttrezzatura: si consiglia di portare un tappetino yoga o stuoia e telo mare. \nREGALATI UN MOMENTO  DI BENESSERE! La Proloco Riviera dei Pini in collaborazione con l’istrutturce Antonella organizzano\, nei mesi da giugno a settembre\, 12 lezioni gratuite di Yoga\, della durata di circa 60 minuti\, ambientate nella meravigliosa Pineta di Tagliata di Cervia. \nRisveglio muscolare e saluto al sole\, respiro della natura…praticare Yoga al mattino per inziare bene la giornata. Attività adatta a tutti. \nL’antica disciplina dello Yoga nasce nel cuore delle foreste dell’India circa 5 mila anni fa e che poi\, come in tutte le cose\, ci siamo “abituati” a praticarla anche negli spazi chiusi\, dimenticandone l’originario senso… ora che è arrivata la bella stagione e possiamo finalmente ritornare a respirare all’aria aperta\,  non abbiamo più scuse per non sperimentarla nel verde\, quindi sfoderate i vostri migliori tappetini e venite a praticare con me un pò di asana\, torsioni e allungamenti in una delle pinete dell’adriatico. \nPerché bisognerebbe fare sempre yoga in Pineta: \n\nCircondarsi di bellezza migliora la nostra capacità di guardare il lato positivo delle cose\nRespirare aria pulita rigenera il nostro organismo irrorando cellule\, tessuti ed organi con sangue ricco di ossigeno puro\nCamminare nel verde significa stare in un luogo ad alta concentrazione di prana\, ossia di energia vitale\, questo consente alla nostra stessa energia di crescere in maniera esponenziale: più tempo trascorriamo a contatto con la natura\, più la nostra forza vitale aumenta\nGuardare il verde in tutte le sue sfumature\, secondo l’anatomia sottile dello Yoga\, rafforza la nostra capacità di amare incondizionatamente\, essendo il colore verde associato al Chakra  Anahata il Chakra del cuore: i Chakra sono le principali centraline elettriche dislocate lungo la nostra colonna vertebrale\nPortare i piedi a contatto con la terra consente al nostro corpo di sentirsi radicato profondamente\, sviluppando senso di equilibrio e stabilità\nRicevere la luce del sole rafforza le nostre difese immunitarie\, consentendo la produzione naturale di vitamine ed ormoni che negli spazi chiusi non possono essere sintetizzati\nPraticare Yoga all’aperto accelera il lavoro yogico di unione e di armonia tra il nostro mondo interiore e quello dell’ambiente che ci circonda\n\nSi consiglia l’Iscrizione gratuita presso l’ufficio INFO POINT RIVIERA DEI PINI\, ci occorre per monitorare le adesioni. \nNon perderti questa fantastica occasione!!! \n 
URL:https://new.rivieradeipini.it/event/yoga-in-pineta-con-ben-essere-nella-riviera-dei-pini-9/
LOCATION:Info Point Riviera dei Pini\, Viale Italia 374\, Cervia\, Ravenna\, 48015\, Italia
CATEGORIES:Agosto,vacanza attiva
ATTACH;FMTTYPE=image/jpeg:https://new.rivieradeipini.it/wp-content/uploads/2022/05/yoga-in-pineta.jpeg
END:VEVENT
BEGIN:VEVENT
DTSTART;TZID=Europe/Rome:20240829T210000
DTEND;TZID=Europe/Rome:20240829T230000
DTSTAMP:20260426T053124
CREATED:20240320T110941Z
LAST-MODIFIED:20240320T110941Z
UID:6882-1724965200-1724972400@new.rivieradeipini.it
SUMMARY:Notti Romagnole in Riviera dei Pini
DESCRIPTION:Una Balera all’aperto!!!!\nmusica da ballo a 360°\ndal 13 giugno al 12 settembre tutti i giovedì sera dalle 21:00 alle 23:00\nParco dei Gemelli – Riviera dei Pini – INGRESSO GRATUITO \nElenco serate: \n13 giugno  > Frank David Orchestra Spettacolo\n20 giugno > Loris e Paolo (duo)\n27 giugno > Sofia e Ale\n04 luglio   > Romagna Folk\n11  luglio   > Loris e Paolo (duo)\n18 luglio   > Sofia e Ale\n25 luglio   > Loris e Paolo (duo)\n01 agosto  > Gusto e Lidia\n08 agosto  > Sofia e Ale\n15 agosto  > Loris e Paolo (duo)\n22 agosto  > Roby Band\n29 agosto  > Loris e Paolo (duo)\n05 settembre  > Loris e Paolo (duo)\n12 settembre  > Loris e Paolo (duo) \n 
URL:https://new.rivieradeipini.it/event/notti-romagnole-in-riviera-dei-pini-12/
CATEGORIES:Agosto
ATTACH;FMTTYPE=image/jpeg:https://new.rivieradeipini.it/wp-content/uploads/2024/03/Una-balera-allaperto.jpg
END:VEVENT
BEGIN:VEVENT
DTSTART;TZID=Europe/Rome:20240830T210000
DTEND;TZID=Europe/Rome:20240830T230000
DTSTAMP:20260426T053124
CREATED:20220518T135848Z
LAST-MODIFIED:20240320T121656Z
UID:6325-1725051600-1725058800@new.rivieradeipini.it
SUMMARY:Riviera dei Pini - Serata cabaret con "Gianluca Impastato"
DESCRIPTION:Serata all’insegna della comicità con Gianluca Impastato
URL:https://new.rivieradeipini.it/event/riviera-dei-pini-cabaret-6/
CATEGORIES:Agosto
ATTACH;FMTTYPE=image/jpeg:https://new.rivieradeipini.it/wp-content/uploads/2022/05/serata-cabaret.jpg
END:VEVENT
BEGIN:VEVENT
DTSTART;TZID=Europe/Rome:20250814T210000
DTEND;TZID=Europe/Rome:20250814T233000
DTSTAMP:20260426T053124
CREATED:20250619T134602Z
LAST-MODIFIED:20250619T134602Z
UID:7197-1755205200-1755214200@new.rivieradeipini.it
SUMMARY:Notti Romagnole in Riviera dei Pini _Paolo & Loris
DESCRIPTION:Una Balera all’aperto!!!!\nmusica da ballo a 360°\ndal 12 giugno al 11 settembre tutti i giovedì sera dalle 21:00 alle 23:30\nParco dei Gemelli – Riviera dei Pini – INGRESSO GRATUITO \nNotti Romagnole in Riviera dei pini\, una balera all’aperto nel Parco dei Gemelli a Tagliata di Cervia con ingresso gratuito\, ci sarà musica da ballo di tutti i tipi\, come il liscio romagnolo\, balli di gruppo e anni 70/ 80. \nLa serata di inaugurazione delle “Notti romagnole in riviera dei Pini” sarà in compagnia del gruppo “I ballerini di Settecrociari” coordinati dal professionista de Paolo Pasini \nElenco serate: \n12 giugno  > Ballerini di Settecrociari \n19 giugno > Loris e Paolo (duo) \n26 giugno > Sofia e Ale\n03 luglio   > Loris e Paolo (duo) \n10  luglio   > Orchestra spettacolo di “Frank David”\n17 luglio   > Assi di cuori\n24 luglio   > Sofia e Ale\n31 luglio  > Loris e Paolo (duo) \n07 agosto  > Fuori Orario\n14 agosto  > Loris e Paolo (duo) \n\n21 agosto  > Sofia e Ale\n28 agosto  > Loris e Paolo (duo)\n04 settembre  > Assi di Cuori (trio)\n11 settembre  > Loris e Paolo (duo) \n 
URL:https://new.rivieradeipini.it/event/notti-romagnole-in-riviera-dei-pini-_paolo-loris-2/
CATEGORIES:Agosto
ATTACH;FMTTYPE=image/jpeg:https://new.rivieradeipini.it/wp-content/uploads/2024/03/Una-balera-allaperto.jpg
END:VEVENT
BEGIN:VEVENT
DTSTART;TZID=Europe/Rome:20250821T210000
DTEND;TZID=Europe/Rome:20250821T233000
DTSTAMP:20260426T053124
CREATED:20250619T134737Z
LAST-MODIFIED:20250619T134737Z
UID:7200-1755810000-1755819000@new.rivieradeipini.it
SUMMARY:Notti Romagnole in Riviera dei Pini _Sofia&Ale
DESCRIPTION:Una Balera all’aperto!!!!\nmusica da ballo a 360°\ndal 12 giugno al 11 settembre tutti i giovedì sera dalle 21:00 alle 23:30\nParco dei Gemelli – Riviera dei Pini – INGRESSO GRATUITO \nNotti Romagnole in Riviera dei pini\, una balera all’aperto nel Parco dei Gemelli a Tagliata di Cervia con ingresso gratuito\, ci sarà musica da ballo di tutti i tipi\, come il liscio romagnolo\, balli di gruppo e anni 70/ 80. \nLa serata di inaugurazione delle “Notti romagnole in riviera dei Pini” sarà in compagnia del gruppo “I ballerini di Settecrociari” coordinati dal professionista de Paolo Pasini \nElenco serate: \n12 giugno  > Ballerini di Settecrociari \n19 giugno > Loris e Paolo (duo) \n26 giugno > Sofia e Ale \n03 luglio   > Loris e Paolo (duo) \n10  luglio   > Orchestra spettacolo di “Frank David”\n17 luglio   > Assi di cuori\n24 luglio   > Sofia e Ale \n31 luglio  > Loris e Paolo (duo)\n07 agosto  > Fuori Orario\n14 agosto  > Loris e Paolo (duo)\n21 agosto  > Sofia e Ale \n  \n \n28 agosto  > Loris e Paolo (duo)\n04 settembre  > Assi di Cuori (trio)\n11 settembre  > Loris e Paolo (duo) \n 
URL:https://new.rivieradeipini.it/event/notti-romagnole-in-riviera-dei-pini-_sofiaale-3/
CATEGORIES:Agosto
ATTACH;FMTTYPE=image/jpeg:https://new.rivieradeipini.it/wp-content/uploads/2024/03/Una-balera-allaperto.jpg
END:VEVENT
BEGIN:VEVENT
DTSTART;TZID=Europe/Rome:20250828T210000
DTEND;TZID=Europe/Rome:20250828T233000
DTSTAMP:20260426T053124
CREATED:20250619T135315Z
LAST-MODIFIED:20250619T135440Z
UID:7203-1756414800-1756423800@new.rivieradeipini.it
SUMMARY:Notti Romagnole in Riviera dei Pini _Paolo & Loris
DESCRIPTION:Una Balera all’aperto!!!!\nmusica da ballo a 360°\ndal 12 giugno al 11 settembre tutti i giovedì sera dalle 21:00 alle 23:30\nParco dei Gemelli – Riviera dei Pini – INGRESSO GRATUITO \nNotti Romagnole in Riviera dei pini\, una balera all’aperto nel Parco dei Gemelli a Tagliata di Cervia con ingresso gratuito\, ci sarà musica da ballo di tutti i tipi\, come il liscio romagnolo\, balli di gruppo e anni 70/ 80. \nLa serata di inaugurazione delle “Notti romagnole in riviera dei Pini” sarà in compagnia del gruppo “I ballerini di Settecrociari” coordinati dal professionista de Paolo Pasini \nElenco serate: \n12 giugno  > Ballerini di Settecrociari \n19 giugno > Loris e Paolo (duo) \n26 giugno > Sofia e Ale\n03 luglio   > Loris e Paolo (duo) \n10  luglio   > Orchestra spettacolo di “Frank David”\n17 luglio   > Assi di cuori\n24 luglio   > Sofia e Ale\n31 luglio  > Loris e Paolo (duo) \n07 agosto  > Fuori Orario\n14 agosto  > Loris e Paolo (duo) \n21 agosto  > Sofia e Ale\n28 agosto  > Loris e Paolo (duo) \n\n04 settembre  > Assi di Cuori (trio)\n11 settembre  > Loris e Paolo (duo) \n 
URL:https://new.rivieradeipini.it/event/notti-romagnole-in-riviera-dei-pini-_paolo-loris-3/
CATEGORIES:Agosto
ATTACH;FMTTYPE=image/jpeg:https://new.rivieradeipini.it/wp-content/uploads/2024/03/Una-balera-allaperto.jpg
END:VEVENT
END:VCALENDAR