BEGIN:VCALENDAR
VERSION:2.0
PRODID:-//Proloco - Riviera dei Pini - ECPv6.15.20//NONSGML v1.0//EN
CALSCALE:GREGORIAN
METHOD:PUBLISH
X-WR-CALNAME:Proloco - Riviera dei Pini
X-ORIGINAL-URL:https://new.rivieradeipini.it
X-WR-CALDESC:Eventi per Proloco - Riviera dei Pini
REFRESH-INTERVAL;VALUE=DURATION:PT1H
X-Robots-Tag:noindex
X-PUBLISHED-TTL:PT1H
BEGIN:VTIMEZONE
TZID:Europe/Rome
BEGIN:DAYLIGHT
TZOFFSETFROM:+0100
TZOFFSETTO:+0200
TZNAME:CEST
DTSTART:20230326T010000
END:DAYLIGHT
BEGIN:STANDARD
TZOFFSETFROM:+0200
TZOFFSETTO:+0100
TZNAME:CET
DTSTART:20231029T010000
END:STANDARD
BEGIN:DAYLIGHT
TZOFFSETFROM:+0100
TZOFFSETTO:+0200
TZNAME:CEST
DTSTART:20240331T010000
END:DAYLIGHT
BEGIN:STANDARD
TZOFFSETFROM:+0200
TZOFFSETTO:+0100
TZNAME:CET
DTSTART:20241027T010000
END:STANDARD
BEGIN:DAYLIGHT
TZOFFSETFROM:+0100
TZOFFSETTO:+0200
TZNAME:CEST
DTSTART:20250330T010000
END:DAYLIGHT
BEGIN:STANDARD
TZOFFSETFROM:+0200
TZOFFSETTO:+0100
TZNAME:CET
DTSTART:20251026T010000
END:STANDARD
END:VTIMEZONE
BEGIN:VEVENT
DTSTART;TZID=Europe/Rome:20240713T060000
DTEND;TZID=Europe/Rome:20240713T070000
DTSTAMP:20260425T234134
CREATED:20220516T151053Z
LAST-MODIFIED:20240708T150126Z
UID:6259-1720850400-1720854000@new.rivieradeipini.it
SUMMARY:Alba Musicale - Bagno Sabrina N°3
DESCRIPTION:Sabato 13 luglio ore 6.00 – fino alle 7.00 \nAlba Musicale in spiaggia \nPresso il Bagno Sabrina nr 3 – Riviera dei Pini
URL:https://new.rivieradeipini.it/event/alba-musicale-bagno-sabrina-n3/
CATEGORIES:Luglio
ATTACH;FMTTYPE=image/jpeg:https://new.rivieradeipini.it/wp-content/uploads/2022/05/AU_0330.jpeg
END:VEVENT
END:VCALENDAR