BEGIN:VCALENDAR
VERSION:2.0
PRODID:-//Proloco - Riviera dei Pini - ECPv6.15.20//NONSGML v1.0//EN
CALSCALE:GREGORIAN
METHOD:PUBLISH
X-WR-CALNAME:Proloco - Riviera dei Pini
X-ORIGINAL-URL:https://new.rivieradeipini.it
X-WR-CALDESC:Eventi per Proloco - Riviera dei Pini
REFRESH-INTERVAL;VALUE=DURATION:PT1H
X-Robots-Tag:noindex
X-PUBLISHED-TTL:PT1H
BEGIN:VTIMEZONE
TZID:Europe/Rome
BEGIN:DAYLIGHT
TZOFFSETFROM:+0100
TZOFFSETTO:+0200
TZNAME:CEST
DTSTART:20230326T010000
END:DAYLIGHT
BEGIN:STANDARD
TZOFFSETFROM:+0200
TZOFFSETTO:+0100
TZNAME:CET
DTSTART:20231029T010000
END:STANDARD
BEGIN:DAYLIGHT
TZOFFSETFROM:+0100
TZOFFSETTO:+0200
TZNAME:CEST
DTSTART:20240331T010000
END:DAYLIGHT
BEGIN:STANDARD
TZOFFSETFROM:+0200
TZOFFSETTO:+0100
TZNAME:CET
DTSTART:20241027T010000
END:STANDARD
BEGIN:DAYLIGHT
TZOFFSETFROM:+0100
TZOFFSETTO:+0200
TZNAME:CEST
DTSTART:20250330T010000
END:DAYLIGHT
BEGIN:STANDARD
TZOFFSETFROM:+0200
TZOFFSETTO:+0100
TZNAME:CET
DTSTART:20251026T010000
END:STANDARD
END:VTIMEZONE
BEGIN:VEVENT
DTSTART;TZID=Europe/Rome:20240802T210000
DTEND;TZID=Europe/Rome:20240802T230000
DTSTAMP:20260424T221236
CREATED:20220516T135332Z
LAST-MODIFIED:20240320T120257Z
UID:6216-1722632400-1722639600@new.rivieradeipini.it
SUMMARY:Riviera dei Pini - Serata cabaret con "KALABRUGOVIC e LA FATINA"
DESCRIPTION:Serata all’insegna della comicità con Kalabrugovic e “La Fatina” \n Giancarlo Calabretta\, in arte Kalabrugovic\, è il grande ed inimitabile filosofo metropolitano\, rivelazione di Zelig Off. Da grande osservatore dei reali personaggi delle periferie ( viene da Bollate\, hinterland milanese )\, il Kala ci racconta di bocciature alla cresima\, parenti calabresi\, amici balordi con alfettoni truccati\, impennate davanti alla polizia muta! E via delirando… \nIl suo personaggio più amato è “Pino dei palazzi” con il tormentone “ Mimmo c’hai n’a siga?” Un zarro di periferia assolutamente esilarante nel suo essere ignorante. \n 
URL:https://new.rivieradeipini.it/event/riviera-dei-pini-cabaret-2/
CATEGORIES:Agosto
ATTACH;FMTTYPE=image/jpeg:https://new.rivieradeipini.it/wp-content/uploads/2022/05/serata-cabaret.jpg
END:VEVENT
END:VCALENDAR